BEGIN:VCALENDAR
VERSION:2.0
PRODID:-//Ina Dittke &amp; Associates - ECPv6.1.3//NONSGML v1.0//EN
CALSCALE:GREGORIAN
METHOD:PUBLISH
X-WR-CALNAME:Ina Dittke &amp; Associates
X-ORIGINAL-URL:https://inadittke.com
X-WR-CALDESC:Events for Ina Dittke &amp; Associates
REFRESH-INTERVAL;VALUE=DURATION:PT1H
X-Robots-Tag:noindex
X-PUBLISHED-TTL:PT1H
BEGIN:VTIMEZONE
TZID:Europe/London
BEGIN:DAYLIGHT
TZOFFSETFROM:+0000
TZOFFSETTO:+0100
TZNAME:BST
DTSTART:20230326T010000
END:DAYLIGHT
BEGIN:STANDARD
TZOFFSETFROM:+0100
TZOFFSETTO:+0000
TZNAME:GMT
DTSTART:20231029T010000
END:STANDARD
BEGIN:DAYLIGHT
TZOFFSETFROM:+0000
TZOFFSETTO:+0100
TZNAME:BST
DTSTART:20240331T010000
END:DAYLIGHT
BEGIN:STANDARD
TZOFFSETFROM:+0100
TZOFFSETTO:+0000
TZNAME:GMT
DTSTART:20241027T010000
END:STANDARD
END:VTIMEZONE
BEGIN:VEVENT
DTSTART;TZID=Europe/London:20240309T080000
DTEND;TZID=Europe/London:20240309T170000
DTSTAMP:20260420T094206
CREATED:20240301T111645Z
LAST-MODIFIED:20240301T111645Z
UID:3888-1709971200-1710003600@inadittke.com
SUMMARY:Camilla George @ Cinema Theater Chiasso\, Switzerland
DESCRIPTION:
URL:https://inadittke.com/eventa/camilla-george-cinema-theater-chiasso-switzerland/
CATEGORIES:Charles Tolliver
END:VEVENT
BEGIN:VEVENT
DTSTART;VALUE=DATE:20230713
DTEND;VALUE=DATE:20230715
DTSTAMP:20260420T094206
CREATED:20230727T153744Z
LAST-MODIFIED:20230727T153744Z
UID:3717-1689206400-1689379199@inadittke.com
SUMMARY:Charles Tolliver @ Church of Sound\, London\, UK
DESCRIPTION:
URL:https://inadittke.com/eventa/charles-tolliver-church-of-sound-london-uk/
CATEGORIES:Charles Tolliver
END:VEVENT
BEGIN:VEVENT
DTSTART;VALUE=DATE:20230708
DTEND;VALUE=DATE:20230709
DTSTAMP:20260420T094206
CREATED:20230727T153922Z
LAST-MODIFIED:20230727T153922Z
UID:3723-1688774400-1688860799@inadittke.com
SUMMARY:Charles Tolliver @ North Sea Jazz\, Rotterdam\, Netherlands
DESCRIPTION:
URL:https://inadittke.com/eventa/charles-tolliver-north-sea-jazz-rotterdam-netherlands/
CATEGORIES:Charles Tolliver
END:VEVENT
END:VCALENDAR